BEGIN:VCALENDAR
PRODID:-//AT Content Types//AT Event//EN
VERSION:1.0
BEGIN:VEVENT
DTSTART:20191213T153000Z
DTEND:20191213T173000Z
DCREATED:20191024T151559Z
UID:ATEvent-78e32c75689547e29e4c6f742dff68a2
SEQUENCE:0
LAST-MODIFIED:20191024T152147Z
SUMMARY:Marché de Noël
LOCATION:Gymnase Jean Pascal
PRIORITY:3
TRANSP:0
END:VEVENT
END:VCALENDAR
