BEGIN:VCALENDAR
PRODID:-//AT Content Types//AT Event//EN
VERSION:1.0
BEGIN:VEVENT
DTSTART:20190902T063000Z
DTEND:20190902T063000Z
DCREATED:20190204T104913Z
UID:ATEvent-ff3a67c40da34f9796219658fed708fa
SEQUENCE:0
LAST-MODIFIED:20190713T070110Z
SUMMARY:Rentrée des classes
DESCRIPTION:Vous trouverez toutes les informations pratiques concernan
 t la rentrée des classes 2019 dans la rubrique : \nINFORMATIONS PRATI
 QUES\, Documents à télécharger.
PRIORITY:3
TRANSP:0
END:VEVENT
END:VCALENDAR
