BEGIN:VCALENDAR
PRODID:-//AT Content Types//AT Event//EN
VERSION:1.0
BEGIN:VEVENT
DTSTART:20240627T060000Z
DTEND:20240628T100500Z
DCREATED:20240618T141700Z
UID:ATEvent-0c9b0a56bc964a1a951aa35b03f35f31
SEQUENCE:0
LAST-MODIFIED:20240618T141705Z
SUMMARY:REVISIONS BREVET
PRIORITY:3
TRANSP:0
END:VEVENT
END:VCALENDAR
