BEGIN:VCALENDAR
PRODID:-//AT Content Types//AT Event//EN
VERSION:2.0
METHOD:PUBLISH
BEGIN:VEVENT
DTSTAMP:20260424T231251Z
CREATED:20240618T142556Z
UID:ATEvent-2d48245843f040559ab53f50552f100e
LAST-MODIFIED:20240618T142604Z
SUMMARY:INTEGRATION 6EME 2024
DTSTART:20240626T060000Z
DTEND:20240626T100000Z
CLASS:PUBLIC
END:VEVENT
END:VCALENDAR
